BEGIN:VCALENDAR
VERSION:2.0
PRODID:-//shift2bikes.org//NONSGML shiftcal v2.1//EN
METHOD:PUBLISH
X-WR-CALNAME:Shift Community Calendar
X-WR-CALDESC:Find fun bike events all year round.
X-WR-RELCALID:community@shift2bikes.org
BEGIN:VEVENT
UID:event-12446@shift2bikes.org
SUMMARY:Rough Stuff Ramble
CONTACT:Shawn Granton
DESCRIPTION:A ride evoking the spirit of the Rough Stuff Fellowship\, a UK
  based cycling society dedicated to getting off the beaten path. There’s 
 plenty of “pockets of country” that can be found without leaving the city 
 limits! Expect a 15 mi moderately paced exploration (no one left behind)\,
  with a mixture of paved/unpaved\, a hill or two\, and a lot of places you
  probably haven’t been to. You may also have to push a bike at some point.
  Route not a loop and will remain a mystery\, but we’ll end up somewhere 
 to watch the sunset at 8:35 pm. Supply up at Beaumont Market\, and don't 
 forget lights and layers. Wider tires never hurt!\nMeet at 4:30\, depart 
 at 5 pm.\nhttps://shift2bikes.org/calendar/event-12446
LOCATION:Beaumont Market\n4130 NE Fremont St\, Portland\, OR 97212\,
STATUS:CONFIRMED
DTSTART:20190804T233000Z
DTEND:20190805T003000Z
CREATED:20230512T085747Z
DTSTAMP:20190724T012203Z
SEQUENCE:1
URL:https://shift2bikes.org/calendar/event-12446
END:VEVENT
END:VCALENDAR
