BEGIN:VCALENDAR
VERSION:2.0
PRODID:-//shift2bikes.org//NONSGML shiftcal v2.1//EN
METHOD:PUBLISH
X-WR-CALNAME:Shift Community Calendar
X-WR-CALDESC:Find fun bike events all year round.
X-WR-RELCALID:community@shift2bikes.org
BEGIN:VEVENT
UID:event-13165@shift2bikes.org
SUMMARY:Stop Asian Hate Solidarity Ride
CONTACT:BikePOC PNW & Friends On Bikes
DESCRIPTION:The murders in Atlanta have disturbingly shown a light on 
 anti-Asian sentiments\, xenophobia\, misogyny\, & fetisization of Asian 
 women. We need to tear this hate down.\n\nShred the “model minority myth” 
 & ride alongside the Asian community as we create intentional space in 
 solidarity.\n\nWho can attend: This ride is meant for communities of 
 color\, centering Asian cyclists. White folks/accomplices are supporting 
 us by offering corking/security.\n\nFor our non-POC supporters: You can 
 donate funds to the Oregon Chinese Coalition @oregonchinesecoalition \, 
 Chinese American Citizens Alliance in tandem with Clay Street Table who 
 run an Asian Pantry in Portland that purchases\, delivers & distributes 
 culturally-specific groceries to our Chinese\, Korean & Vietnamese elders 
 & families.\n\nDetails: "Stop Asian Hate Solidarity Ride" Saturday\, April
  3rd / Laurelhurst Park (SE 35th Ave. & SE Oak St.) / 5pm meet / 5:30pm 
 ride / ~6.5mi / No Drop / Loop / Ride has a hill / Mask up!\n\nGraphic by 
 @jjbccm / Organized by @bikePOCPNW & @friends.on.bikes\n5:00 PM meet-up / 
 5:30 PM ride start\nhttps://shift2bikes.org/calendar/event-13165
LOCATION:Laurelhurst Park\nSE Cesar E Chavez Blvd & Stark St\, Portland\, 
 OR 97214\nSE 35th Ave. & SE Oak St.
STATUS:CONFIRMED
DTSTART:20210404T000000Z
DTEND:20210404T013000Z
CREATED:20230512T085747Z
DTSTAMP:20210330T204522Z
SEQUENCE:1
URL:https://shift2bikes.org/calendar/event-13165
END:VEVENT
END:VCALENDAR
