BEGIN:VCALENDAR
VERSION:2.0
PRODID:-//shift2bikes.org//NONSGML shiftcal v2.1//EN
METHOD:PUBLISH
X-WR-CALNAME:Shift Community Calendar
X-WR-CALDESC:Find fun bike events all year round.
X-WR-RELCALID:community@shift2bikes.org
BEGIN:VEVENT
UID:event-15814@shift2bikes.org
SUMMARY:Sauvie Island Corn Maze and Pumpkin Pick Ride
CONTACT:AnomaLily
DESCRIPTION:A social ride to the U-pick pumpkin patch and corn maze on 
 Sauvie Island\, for some Halloween Fun. The ride is 11 miles each way\, 
 and we will be riding at a ~8-10 mph pace. We will probably be slower on 
 the way back because of pumpkin weight. There is some slow elevation gain 
 on the ride\, and two bridges (St Johns and Sauvie Island). We are leaving
  early to avoid the traffic on St Helens Road but\, you should be 
 comfortable with medium-traffic riding on a shoulder! We will be going to 
 Bella Organic Farm on Sauvie Island where there is a corn maze and a u-
 pick pumpkin patch. If the weather is absolutely miserable\, we may move 
 to a different day. \n\nBring hauling capacity (panniers\, cargo bike\, 
 basket) if you want to bring home a pumpkin. Otherwise\, bring snacks\, 
 cash for the corn maze\, water\, rain gear\, and good corn maze shoes! We 
 will likely eat lunch on Sauvie Island at the farm (feel free to brown 
 bag)\, and head back around ~1:30PM. Please note the corn maze and u-pick 
 pumpkins are cash-only (ATM on site) - corn maze is $10 per adult\, $8 per
  child\, free for under 5's. The corn maze takes about an hour to get 
 through. The Hay rides to the pumpkin patch are free.\n\nKids with an 
 adult are welcome\, if they are comfortable riding on Willamette Blvd and 
 NW St Helens Road. Please make sure the route is comfortable for them! 
 \n\nThe Arbor Lodge Max Station is near the start if you'd like to combine
  modes. Free free to pick up supplies before the ride at New Seasons 
 (across the street) and Arbor Lodge Coffee.\nMeet at 8:30\, Ride at 
 9:00\nhttps://shift2bikes.org/calendar/event-15814
LOCATION:The Arbor Lodge Coffee Shop\n1507 N Rosa Parks Way\nMeet outside 
 - feel free to grab a coffee\, or head across to the new seasons for 
 snacks
STATUS:CONFIRMED
DTSTART:20221015T153000Z
DTEND:20221015T163000Z
CREATED:20230512T085747Z
DTSTAMP:20220816T163021Z
SEQUENCE:1
URL:https://shift2bikes.org/calendar/event-15814
END:VEVENT
END:VCALENDAR
