BEGIN:VCALENDAR
VERSION:2.0
PRODID:-//shift2bikes.org//NONSGML shiftcal v2.1//EN
METHOD:PUBLISH
X-WR-CALNAME:Shift Community Calendar
X-WR-CALDESC:Find fun bike events all year round.
X-WR-RELCALID:community@shift2bikes.org
BEGIN:VEVENT
UID:event-15835@shift2bikes.org
SUMMARY:CHERRY BOMB XX ZOOBOMB
CONTACT:Val & ZooBomb
DESCRIPTION:This will be a "CHERRY" ZOOBOMB during the sunset in 
 preparation to celebrate ZOOBOMB's 20th anniversary. ZOOBOMB is a weekly 
 bicycling activity that has been GOING DOWN for 20 years!\nWe'll hop on 
 the MAX (Red or Blue\,) exit Washington Park station & take the elevator 
 up to the zoo\, then ride downhill fast for fun!!\n\n$2.50 to ride the 
 MAX\, lights\, & helmets encouraged (full face helmets recommended & any 
 safety gear you want to wear.)\n\nLeave No Trace (plan ahead & be 
 prepared\, pack out what you bring\, be respectful & considerate of 
 others\, make a positive impact)\nEnds at Return back to the Bike 
 Pyle\nhttps://shift2bikes.org/calendar/event-15835
LOCATION:ZooBomb\nSW Harvey Milk at Burnside\, Portland\, OR 97205\nThe 
 Bike Pyle at SW 13TH & W BURNSIDE ( the two-story spiral pillar with a 
 gold-plated small small bicycle on top in front of the Annex & American 
 Apparel)
STATUS:CONFIRMED
DTSTART:20220912T010000Z
DTEND:20220912T020000Z
CREATED:20230512T085747Z
DTSTAMP:20220821T230536Z
SEQUENCE:1
URL:https://shift2bikes.org/calendar/event-15835
END:VEVENT
END:VCALENDAR
