BEGIN:VCALENDAR
VERSION:2.0
PRODID:-//shift2bikes.org//NONSGML shiftcal v2.1//EN
METHOD:PUBLISH
X-WR-CALNAME:Shift Community Calendar
X-WR-CALDESC:Find fun bike events all year round.
X-WR-RELCALID:community@shift2bikes.org
BEGIN:VEVENT
UID:event-16125@shift2bikes.org
SUMMARY:Leaf Lookin' Ride!
CONTACT:Amy
DESCRIPTION:Fall Foliage Frolicking!\n*Edit: Moorland of NakedHeartsPDX is
  graciously lending us his speaker trailer for this ride so the music will
  sound extra lovely:) It looks like we might get a sunny afternoon - there
  won't be a store stop but there will be a little park hang\, so bring 
 whatever snacks or drinks you might want:) Come meander and take in some 
 fall foliage with friends! Bask in the glorious autumn colors and be 
 serenaded by the sweet sounds of old-timey jazz and and cozy crooners à la
  Ella Fitzgerald & Billie Holliday!  I have not had a chance to get out in
  the daylight lately so I don't claim to know the BEST EVER trees for leaf
  lookin'\, but trees and leaves there shall be to be seen!\n\nThe ride 
 will be a fairly chill pace and mostly sticking to neighborhood streets. 
 The length not yet determined\, but probably around 10 or 11 miles!\nMeet 
 at noon\, roll at 12:30pm.\nhttps://shift2bikes.org/calendar/event-16125
LOCATION:Irving Park\n707 NE Fremont St\, Portland OR 97121\nMeet at the 
 picnic tables by the tennis courts\, under the trees!
STATUS:CONFIRMED
DTSTART:20221112T200000Z
DTEND:20221112T210000Z
CREATED:20230512T085747Z
DTSTAMP:20221110T060740Z
SEQUENCE:1
URL:https://shift2bikes.org/calendar/event-16125
END:VEVENT
END:VCALENDAR
