BEGIN:VCALENDAR
VERSION:2.0
PRODID:-//shift2bikes.org//NONSGML shiftcal v2.1//EN
METHOD:PUBLISH
X-WR-CALNAME:Shift Community Calendar
X-WR-CALDESC:Find fun bike events all year round.
X-WR-RELCALID:community@shift2bikes.org
BEGIN:VEVENT
UID:event-16141@shift2bikes.org
SUMMARY:CycleCatsPDX Through The Forest And Over The Bridge
CONTACT:Cycle Cats
DESCRIPTION:Last weekend was a blast!  Wanting to try it again before the 
 rain comes.  Saturday should be a dry day to ride through Forest Park and 
 across St. John's Bridge to some food carts and then back to VKS.  Same 
 idea\, meet up at Vera Katz Statue at 9am with a 9:30 roll out.  A faster 
 and more adventurous than some other rides around but we promote a no drop
  ride.  Be respectful and ready to have a fun time!  About 28 miles and 
 1\,500 feet of elevation.\nRolling out around 
 9:30.\nhttps://shift2bikes.org/calendar/event-16141
LOCATION:Vera Kats Statue (V.K.S.)\nEastside Esplanade
STATUS:CONFIRMED
DTSTART:20221119T170000Z
DTEND:20221119T180000Z
CREATED:20230512T085747Z
DTSTAMP:20221114T222128Z
SEQUENCE:1
URL:https://shift2bikes.org/calendar/event-16141
END:VEVENT
END:VCALENDAR
