BEGIN:VCALENDAR
VERSION:2.0
PRODID:-//shift2bikes.org//NONSGML shiftcal v2.1//EN
METHOD:PUBLISH
X-WR-CALNAME:Shift Community Calendar
X-WR-CALDESC:Find fun bike events all year round.
X-WR-RELCALID:community@shift2bikes.org
BEGIN:VEVENT
UID:event-16179@shift2bikes.org
SUMMARY:BIANCA’S  DANCE RIDE Christmas SPECTACULAR ! Come in a Onesie or 
 costume. PEACOCK LANE and the Santa clones and dancing and dancing.
CONTACT:NakedHearts:PDX (Bianca Leads with Moorland helping.)
DESCRIPTION:PARTY RIDE. Ride will be merging at Peacock Lane with Val and 
 the FNR crew.\nBianca is leading a dance ride spectacular.\nBianca\, who 
 has brought massive\, upbeat dance energy to so many rides and curated the
  super successful ‘Safari dance ride’ during Pedalopalooza\, is curating 
 another dance extravaganza. Although the weather may be damp\,  costumes 
 and Onesies are the look. \nYou’re invited too come out in your craziest 
 gear and brave the weather and dance. \n\nWhat can you expect? \nThe route
  will have dance spots. Underground Rave type dance spots…\nThe music will
  be an excellent mixture of upbeat techno inviting us to dance and shake 
 it. \nPeacock Lane is a big XMas light display and we will also stop too 
 see the famous and mysterious Santa Clones (please don’t post the exact 
 location\, we’re all meant to keep it a secret). \nWe will be merging with
  FNR and their crew. \n\nThis is a NakedHearts:PDX ride so we will have a 
 safe container for us all\, including sweeps\, corkers\, safety people and
  an attitude of joy\, exuberance and acceptance all based on a strong 
 foundation of mutual respect and regard. \n\nAdditional information: We 
 strongly recommend any and all PDX:Unity rides and the warm/safe 
 atmosphere they create for our marginalized communities. \nAlso: Sabrina 
 (From Fancy Mondays Picnic rides) is now hosting ‘Say Hi Sundays’ which is
  a ride encouraging community bonding and new friendships.\nMeet for 7 and
  ride for 7:30\nhttps://shift2bikes.org/calendar/event-16179
LOCATION:Under the Lloyd center carpark at the N.E. Halsey and  15th\, 
 beneath where Marshall’s  used to be in the underground  car park. NOT the
  Tunnel.\nLloyd center. Underneath where entrance ramp on N.E. 15th and 
 N.E. Halsey st…head to the music. Moorland will be there for 7 so no one 
 waits alone.
STATUS:CONFIRMED
DTSTART:20221217T030000Z
DTEND:20221217T040000Z
CREATED:20230512T085747Z
DTSTAMP:20221126T002959Z
SEQUENCE:1
URL:https://shift2bikes.org/calendar/event-16179
END:VEVENT
END:VCALENDAR
