BEGIN:VCALENDAR
VERSION:2.0
PRODID:-//shift2bikes.org//NONSGML shiftcal v2.1//EN
METHOD:PUBLISH
X-WR-CALNAME:Shift Community Calendar
X-WR-CALDESC:Find fun bike events all year round.
X-WR-RELCALID:community@shift2bikes.org
BEGIN:VEVENT
UID:event-16238@shift2bikes.org
SUMMARY:Monthly Overlook Ride!
CONTACT:Nic Cota\, OKNA Transportation Chair
DESCRIPTION:NET staging area tour!\nCome join me and other neighbors on a 
 family-friendly\, conversation pace bike ride around the Overlook 
 neighborhood. As transportation chair\, my goal is to hear from folks 
 about transportation-related issues and ideas for folks walking\, biking\,
  and taking transit for their daily needs. \n\nDec 10th: we’ll be riding 
 along portions of Interstate Ave and help remove leaves/debris from the 
 bike lanes! We'll even have a special guest: BikeLoud PDX's state-of-the-
 art Bike Lane Sweeper to help! Please bring cleaning tools\, a cargo 
 bike/trailer\, and the whole family to help!\n\nAfter the ride I'll buy 
 anyone lunch who can stick around:) \n\n\nThis is a monthly ride on the 
 2nd Sunday of each month. Meet at Stacks Coffeehouse around 9:30a for 
 coffee and conversation\, then leave around 10-10:15a. Ride ends back at 
 Stacks Coffeehouse.\n\nNic Cota\nOverlook Neighborhood Association 
 Transportation Chair\nMeet at 9:30a\, leave around 10-
 10:15a\nhttps://shift2bikes.org/calendar/event-16238
LOCATION:Stacks Coffeehouse\n1831 N Killingsworth St Portland\, OR 
 97217\nMeet at seeting outside
STATUS:CONFIRMED
DTSTART:20231015T163000Z
DTEND:20231015T173000Z
CREATED:20230512T085747Z
DTSTAMP:20230102T010028Z
SEQUENCE:6
URL:https://shift2bikes.org/calendar/event-16238
END:VEVENT
END:VCALENDAR
