BEGIN:VCALENDAR
VERSION:2.0
PRODID:-//shift2bikes.org//NONSGML shiftcal v2.1//EN
METHOD:PUBLISH
X-WR-CALNAME:Shift Community Calendar
X-WR-CALDESC:Find fun bike events all year round.
X-WR-RELCALID:community@shift2bikes.org
BEGIN:VEVENT
UID:event-16308@shift2bikes.org
SUMMARY:PWLF - PopCartPDX Mobile bike light party.
CONTACT:PopCartPDX
DESCRIPTION:PopCartPDX mobile night! Not a ride.\nPopCartPDX mobile night 
 for Portland Winter Light Festival!  This is NOT a ride. We always have 
 the option of going mobile at any time *Free stickers. \n\nDeck out your 
 bike\, board\, or scooter in lights. Come show off your lit ride for a 
 gathering near the Salmon Fountain\, where the Spirit docks. \n\n*If 
 pouring we will be under Hawthorne \n\n6pm Meet\n\n\n\n\n\nPopCartPDX 
 Plans to start on the west side of the river and slowly migrate to the 
 east side. This will not be much of a bike ride\, but rather a gathering 
 of bikes and lights to dance.\n\n*LOCK YOUR BIKE 
 UP\nhttps://shift2bikes.org/calendar/event-16308
LOCATION:Salmon Fountain (Spirit Dock)\nSalmon Fountain\nNext to Spirit 
 dock. Half circle stairs
STATUS:CONFIRMED
DTSTART:20230204T020000Z
DTEND:20230204T030000Z
CREATED:20230512T085747Z
DTSTAMP:20230122T155350Z
SEQUENCE:1
URL:https://shift2bikes.org/calendar/event-16308
END:VEVENT
END:VCALENDAR
