BEGIN:VCALENDAR
VERSION:2.0
PRODID:-//shift2bikes.org//NONSGML shiftcal v2.1//EN
METHOD:PUBLISH
X-WR-CALNAME:Shift Community Calendar
X-WR-CALDESC:Find fun bike events all year round.
X-WR-RELCALID:community@shift2bikes.org
BEGIN:VEVENT
UID:event-16336@shift2bikes.org
SUMMARY:Foster Night Ride
CONTACT:radrich
DESCRIPTION:Ride the lights pir (naughty-beaver moon)\neat drink and be 
 merry\, tonight we ride! Come prepared for anything\, be kind to all 
 travelers\, pack out what you pack in\, don't be verbally abusive\, no 
 bulling\, zero violence is the policy and if it's not a hell yes than it's
  a fuck no.\nmeet up 7:30pm rideout 
 7:59pm\nhttps://shift2bikes.org/calendar/event-16336
LOCATION:The mercado\n7238 se Foster road\nNear the barrio covered area
STATUS:CONFIRMED
DTSTART:20231129T033000Z
DTEND:20231129T043000Z
CREATED:20230512T085747Z
DTSTAMP:20230127T232905Z
SEQUENCE:18
URL:https://shift2bikes.org/calendar/event-16336
END:VEVENT
END:VCALENDAR
