BEGIN:VCALENDAR
VERSION:2.0
PRODID:-//shift2bikes.org//NONSGML shiftcal v2.1//EN
METHOD:PUBLISH
X-WR-CALNAME:Shift Community Calendar
X-WR-CALDESC:Find fun bike events all year round.
X-WR-RELCALID:community@shift2bikes.org
BEGIN:VEVENT
UID:event-16711@shift2bikes.org
SUMMARY:Spring Cleanin Freebox Frolic ride
CONTACT:Moe Irish
DESCRIPTION:Ride changed to Saturday 4/29-- New Start time 12\nMy favorite
  part of living in Portland is all of the awesome freebox finds! Time to 
 re-release some of those things back into the freebox world. Gather up all
  the stuff that is cluttering your house (that you can carry by bike) and 
 bring it out to redistribute into freeboxes around SE while maybe finding 
 a few new fun treasures.\nRide out by 12\nEnds at The Really Really Free 
 Market - Gateway Discovery Park\nhttps://shift2bikes.org/calendar/event-
 16711
LOCATION:Brooklyn Park\n3340 SE 10th Ave\, Portland\, OR 97202\nBasket 
 ball court
STATUS:CONFIRMED
DTSTART:20230429T184500Z
DTEND:20230429T194500Z
CREATED:20230512T085747Z
DTSTAMP:20230414T174123Z
SEQUENCE:1
URL:https://shift2bikes.org/calendar/event-16711
END:VEVENT
END:VCALENDAR
