BEGIN:VCALENDAR
VERSION:2.0
PRODID:-//shift2bikes.org//NONSGML shiftcal v2.1//EN
METHOD:PUBLISH
X-WR-CALNAME:Shift Community Calendar
X-WR-CALDESC:Find fun bike events all year round.
X-WR-RELCALID:community@shift2bikes.org
BEGIN:VEVENT
UID:event-16712@shift2bikes.org
SUMMARY:BikeLoud West Monthly Ride
CONTACT:Holden Regnier
DESCRIPTION:Join the west-side chapter of BikeLoud at Field's Park for a 
 casual ride. Meet other bike advocates\, ride through some new routes on 
 the west-side and build community! We will explore the bike infrastructure
  available and enjoy the city scenery. We will end each ride near some 
 food and drink options as well!\nGather at 2:30\, ride at 2:45PM/3PM\nEnds
  at TBD\, a place to eat/drink and build 
 community!\nhttps://shift2bikes.org/calendar/event-16712
LOCATION:Field's Park\nField's Park \, 1099 NW Overton Street Portland\, 
 OR 97209\nField's Park \, 1099 NW Overton Street Portland\, OR 97209
STATUS:CONFIRMED
DTSTART:20230528T213000Z
DTEND:20230528T223000Z
CREATED:20230512T085747Z
DTSTAMP:20230425T172128Z
SEQUENCE:1
URL:https://shift2bikes.org/calendar/event-16712
END:VEVENT
END:VCALENDAR
