BEGIN:VCALENDAR
VERSION:2.0
PRODID:-//shift2bikes.org//NONSGML shiftcal v2.1//EN
METHOD:PUBLISH
X-WR-CALNAME:Shift Community Calendar
X-WR-CALDESC:Find fun bike events all year round.
X-WR-RELCALID:community@shift2bikes.org
BEGIN:VEVENT
UID:event-16942@shift2bikes.org
SUMMARY:RETROGRESSION Grand RE-Opening Party & Ride
CONTACT:Retrogression
DESCRIPTION:Beer\, giveaways\, heavy tunes and good hangs. Come celebrate 
 the reopening of Retrogression at their new location in Central Eastside. 
 \n\nThe USA's only dedicated fixed gear & track bike shop is right here in
  PDX\, come check it out!\n\n**Pre-party group ride info listed as 
 separate event on calendar**\nhttps://shift2bikes.org/calendar/event-16942
LOCATION:Retrogression\n1530 SE 7th Ave
STATUS:CONFIRMED
DTSTART:20230528T020000Z
DTEND:20230528T030000Z
CREATED:20230516T231013Z
DTSTAMP:20230516T231013Z
SEQUENCE:6
URL:https://shift2bikes.org/calendar/event-16942
END:VEVENT
END:VCALENDAR
