BEGIN:VCALENDAR
VERSION:2.0
PRODID:-//shift2bikes.org//NONSGML shiftcal v2.1//EN
METHOD:PUBLISH
X-WR-CALNAME:Shift Community Calendar
X-WR-CALDESC:Find fun bike events all year round.
X-WR-RELCALID:community@shift2bikes.org
BEGIN:VEVENT
UID:event-17415@shift2bikes.org
SUMMARY:Fresh HOP ride
CONTACT:FRIDAY NIGHT RIDE
DESCRIPTION:FRESH Hop BEERS ride\nThis is the best time of the year to sip
  on IPA’s and all beer that our wonderful PNW brewers make with the 
 freshest of the fresh hops. \n\nWe will hop around town to different 
 breweries and beer bar ish places and consume some tasty sips. Park spots 
 along the way. Bring a lock. Bring a positive and all inclusive vibe. 
 Respect everyone and respect the roads. We are going to be biking on bike 
 friendly roads but we will be respectful to the flow of traffic.  If you 
 are someone that does wheelies head on into oncoming traffic\, this is not
  the ride for you.\nMeet at 2 pm. Ride leaves roughly 3 
 pm.\nhttps://shift2bikes.org/calendar/event-17415
LOCATION:Level Beer: Level 3 Buckman Kerns\n1447 NE Sandy Blvd\, 
 Portland\, OR 97232\nInside/outside. Lock up bike or bring around to back 
 area.
STATUS:CONFIRMED
DTSTART:20230903T210000Z
DTEND:20230903T220000Z
CREATED:20230524T125506Z
DTSTAMP:20230524T125506Z
SEQUENCE:7
URL:https://shift2bikes.org/calendar/event-17415
END:VEVENT
END:VCALENDAR
