BEGIN:VCALENDAR
VERSION:2.0
PRODID:-//shift2bikes.org//NONSGML shiftcal v2.1//EN
METHOD:PUBLISH
X-WR-CALNAME:Shift Community Calendar
X-WR-CALDESC:Find fun bike events all year round.
X-WR-RELCALID:community@shift2bikes.org
BEGIN:VEVENT
UID:event-17604@shift2bikes.org
SUMMARY:Societe des Rambleneurs
CONTACT:Urban Adventure League
DESCRIPTION:Time to get off the beaten path on a li'l adventure! We'll 
 explore the areas in Cully and adjacent NE neighborhoods\, in search of 
 the unpaved and the unknown. This is no fast ride\, instead a ramble at 
 moderate speeds where we'll have the opportunity to stop and enjoy things.
  Expect some streets and paths you may not know yet! Any bike should be 
 able to do this ride\, though wider tires (north of 32mm) would not 
 hurt.\nMeet at 11\, we depart at 11:30 
 AM.\nhttps://shift2bikes.org/calendar/event-17604
LOCATION:Normandale Park\nNE 55th Ave and NE Wasco St
STATUS:CONFIRMED
DTSTART:20230902T180000Z
DTEND:20230902T190000Z
CREATED:20230728T191443Z
DTSTAMP:20230728T191443Z
SEQUENCE:3
URL:https://shift2bikes.org/calendar/event-17604
END:VEVENT
END:VCALENDAR
