BEGIN:VCALENDAR
VERSION:2.0
PRODID:-//shift2bikes.org//NONSGML shiftcal v2.1//EN
METHOD:PUBLISH
X-WR-CALNAME:Shift Community Calendar
X-WR-CALDESC:Find fun bike events all year round.
X-WR-RELCALID:community@shift2bikes.org
BEGIN:VEVENT
UID:event-17805@shift2bikes.org
SUMMARY:Portland Art Walk Bike Ride
CONTACT:Lynn S
DESCRIPTION:We will be doing a casual ride around to a handful of art 
 galleries that are open for First Friday Art Walk. Biking is the best way 
 to get around to these wonderful galleries as they are spread around inner
  SE/NE. Maybe grab something to eat afterwards. If you got a sound system 
 bring it! I love music on group bike rides. This is a social ride\, no one
  gets left behind.\n\nHere are the galleries that sometimes participate 
 each month. I will update to the ones that confirm they are participating 
 when I get ther email a few days before the event.\nSidestreet Arts \nKBOO
  Radio X\nBridge Rat Studios\nPast Lives Gallery\nADX Gallery X\nClinton 
 St Coffeehouse \nFord Gallery\nSplendorporium\nManifestation \nEast 
 Creative Collective \nAzoth\nVariable Creative\nThe 
 Lobby\nL'Atelier\nRadius Art Studio\nBrassworks Gallery\nPushdot Studio 
 Gallery\n\nFor more info message me @lynntofu on Instagram. Do you also 
 attend First Fridays and want to help me plan a route?\nMeet at 5:30pm\, 
 ride at 6pm.\nEnds at This is not a 
 loop\nhttps://shift2bikes.org/calendar/event-17805
LOCATION:Sidestreet Arts\n140 SE 28th Ave\, Portland\, OR 97214\nMeet 
 outside the gallery. There are bike racks across the street.
STATUS:CONFIRMED
DTSTART:20230902T003000Z
DTEND:20230902T013000Z
CREATED:20230822T100825Z
DTSTAMP:20230822T100825Z
SEQUENCE:4
URL:https://shift2bikes.org/calendar/event-17805
END:VEVENT
END:VCALENDAR
