BEGIN:VCALENDAR
VERSION:2.0
PRODID:-//shift2bikes.org//NONSGML shiftcal v2.1//EN
METHOD:PUBLISH
X-WR-CALNAME:Shift Community Calendar
X-WR-CALDESC:Find fun bike events all year round.
X-WR-RELCALID:community@shift2bikes.org
BEGIN:VEVENT
UID:event-17848@shift2bikes.org
SUMMARY:Pedal Around Portland 2023 - First Annual
CONTACT:Matt Lynch
DESCRIPTION:Are you ready for a unique cycling adventure around Portland? 
 Well\, dust off your helmet\, grab your water bottle and join your fellow 
 cyclists for the first annual Pedal Around Portland! Ride a 50-mile 
 curated loop around Portland via GPS route to each Trek store in the area!
  Each store will show incredible hospitality with events & food and just 
 registering will put you in a raffle to win one of three incredible 
 prizes! \n\n1) A free Trek Travel Trip!\n2) $2000.00 Credit towards a new 
 bike! \n3) $1000.00 Credit towards a new bike! \n\nRegistration for the 
 event is $25.00\n\nAll proceeds go towards Free Bikes 4 Kids! Come on down
  and ride your bike in a big ol' circle around Portland and have some fun!
  *Ride route and directions will be through Ride with GPS or you can 
 download the route to your own ride computer!\n\nWe believe in giving back
  to our community\, and I know you do too\, which is why they’re offering 
 an opportunity to make a difference. For an extra $25 at sign-up\, you’ll 
 guarantee a new bike gets donated to a kid who needs one through our 
 nonprofit partner\, Free Bikes 4 Kids. It's a small contribution that can 
 bring big joy to a child's life and help them discover the joys of 
 cycling.\nPacket pick up is at 8:15am! But the ride starts whenever you 
 want!\nEnds at You can end the ride whenever and where-ever you 
 want!\nhttps://shift2bikes.org/calendar/event-17848
LOCATION:You can start the ride at one of our six Trek Locations around 
 Portland: Beaverton\, Hollywood\, Westmoreland\, Lake Oswego\, Happy 
 Valley\, Downtown Portland\nYou can start the ride at one of our six Trek 
 Locations around Portland: Beaverton\, Hollywood\, Westmoreland\, Lake 
 Oswego\, Happy Valley\, Downtown Portland\nYou can start the ride at one 
 of our six Trek Locations around Portland: Beaverton\, Hollywood\, 
 Westmoreland\, Lake Oswego\, Happy Valley\, Downtown Portland
STATUS:CONFIRMED
DTSTART:20230902T160000Z
DTEND:20230903T002000Z
CREATED:20230823T174827Z
DTSTAMP:20230823T174827Z
SEQUENCE:5
URL:https://shift2bikes.org/calendar/event-17848
END:VEVENT
END:VCALENDAR
