BEGIN:VCALENDAR
VERSION:2.0
PRODID:-//shift2bikes.org//NONSGML shiftcal v2.1//EN
METHOD:PUBLISH
X-WR-CALNAME:Shift Community Calendar
X-WR-CALDESC:Find fun bike events all year round.
X-WR-RELCALID:community@shift2bikes.org
BEGIN:VEVENT
UID:event-18086@shift2bikes.org
SUMMARY:Kidical Mass PDX Halloween Costume Ride
CONTACT:Kidical Mass PDX
DESCRIPTION:Ride around Northeast Portland with Kidical Mass PDX. 
 \n\nWe’ll ride on neighborhood greenways and side streets to see houses 
 decorated for halloween. Kids and adults can wear Halloween costumes\, or 
 decorate bikes! \n\nThe ride is a mostly flat 3 mile loop\, with breaks to
  see decorations on the way\, so its suitable for most young bike riders 
 who can pedal a bike without training wheels. \n\nWe ride slow for little 
 pedalers. Kids should wear a helmet\, be able to ride in a straight line\,
  start and stop. Cargo bikes\, tandems\, trailers and tag-a-longs are 
 great for kids who haven’t learned to pedal or get tired soon. We'll ride 
 together as a group\, rain or shine\, because kids are traffic too! 
 \n\nCome ride with us!\n\nhttps://www.facebook.com/kidicalmasspdx\nMeet at
  1:00pm\, ride at 1:15 pm\nhttps://shift2bikes.org/calendar/event-18086
LOCATION:Wilshire Park\n3501 NE Skidmore St\, Portland\, OR 
 97212\nWilshire Park Playground
STATUS:CONFIRMED
DTSTART:20231029T200000Z
DTEND:20231029T220000Z
CREATED:20231007T205813Z
DTSTAMP:20231007T205813Z
SEQUENCE:3
URL:https://shift2bikes.org/calendar/event-18086
END:VEVENT
END:VCALENDAR
