BEGIN:VCALENDAR
VERSION:2.0
PRODID:-//shift2bikes.org//NONSGML shiftcal v2.1//EN
METHOD:PUBLISH
X-WR-CALNAME:Shift Community Calendar
X-WR-CALDESC:Find fun bike events all year round.
X-WR-RELCALID:community@shift2bikes.org
BEGIN:VEVENT
UID:event-18117@shift2bikes.org
SUMMARY:Leaf It All Behind: Ride Westside Banks-Vernonia
CONTACT:Ride Westside
DESCRIPTION:Want to appreciate fall leaves and foliage while enjoying the 
 freedom of being on your bike among like-minded friends? Join Ride 
 Westside for the Leaf It All Behind Banks-Vernonia Ride. We’ll head out in
  the morning from the trailhead in Banks\, Oregon\, ride the Banks-
 Vernonia Trial up to L.L. Stub Stewart State Park where we will pause at 
 the visitor center to use the facilities\, drink cocoa or tea from our 
 thermoses\, and talk wistfully about next year’s bike camping season. (If 
 you’re looking for a shorter ride\, you could plan to join us – or leave 
 us – at this point.) Then we will continue on up to lovely Vernonia\, 
 Oregon for lunch at the various restaurants and food carts\, walkin’ 
 around\, and maybe some unstructured art appreciation.  Then we’ll ride 
 back down the same trail. Depending on how we feel and the daylight 
 situation\, we may decide to stop at the breathtaking Buxton Trestle for 
 rest and photos.\n\nTotal distance ~45 miles\n\nSchedule\n\nBanks 
 Trailhead\nMap: https://maps.app.goo.gl/JaqPfU6Ph4iArBEa9\nMeet 9:45 AM\, 
 Roll at 10 AM sharp!\n\nLL Stub Stewart State Park Welcome Center\nMap: 
 https://maps.app.goo.gl/93qrom993SXWcDXn6)\nDistance from Banks:  ~10.2 
 miles\nArrive 11 AM - Leave by 11:15 AM\n\nVernonia\, OR\nDistance from 
 Stub Stewart (~11.5 miles)\nArrive 12:30 PM\nVarious 
 restaurants/carts\nOption to visit Chip Mill for art viewing\nLeave by 
 2:00 PM\n\nBuxton Trestle Park\nMap: 
 https://maps.app.goo.gl/8mSDHiqjsVmXXq2V9\nDistance from Vernonia\, OR: 
 ~15 miles\nArrive: 3:30 - 4 PM\n\nBack at Banks Trailhead\nDistance from 
 Buxton Trestle: 6.5 miles\nArrive: 4:30 PM -5:30 PM\nMeet at 9:45 a.m.\, 
 roll at 10 a.m. More details in the ride 
 description\nhttps://shift2bikes.org/calendar/event-18117
LOCATION:Vernonia-Banks Trailhead in Banks\nNW Banks Road and Highway 47 
 in Banks
STATUS:CONFIRMED
DTSTART:20231029T164500Z
DTEND:20231029T174500Z
CREATED:20231014T175130Z
DTSTAMP:20231014T175130Z
SEQUENCE:3
URL:https://shift2bikes.org/calendar/event-18117
END:VEVENT
END:VCALENDAR
