BEGIN:VCALENDAR
VERSION:2.0
PRODID:-//shift2bikes.org//NONSGML shiftcal v2.1//EN
METHOD:PUBLISH
X-WR-CALNAME:Shift Community Calendar
X-WR-CALDESC:Find fun bike events all year round.
X-WR-RELCALID:community@shift2bikes.org
BEGIN:VEVENT
UID:event-18193@shift2bikes.org
SUMMARY:Ride to see the lights at Portland International raceway.
CONTACT:NakedHearts:PDX (Moorland leads/we merge with the other ride)
DESCRIPTION:Riders who need financial assistance for the $15 entrance fee 
 please reach out. Riders who can cover others tickets please reach out or 
 send via our Venmo (link on our insta).\nIt’s bike night at PIR to see the
  lights. \nWe merge with the other ride near Kenton if not sooner. 
 \n\nThere will be some Christmas music but just a little. Expect a cool 
 playlist from Moorland. It might be a a test run of the music for the Die 
 Hard ride. So 80’s action movie rock music. \n\nThe entrance cost is 
 $15.\n\nLast year we asked those who could\, to cover ticket costs for 
 those who would have a harder time with a $15 entrance fee. Same goes this
  year. \nIf you need financial assistance please reach out ASAP so we can 
 make sure you’re covered. \nIf you can cover someone’s ticket please reach
  out too so we know we’ve enough funds available. \nNakedHearts:PDX has a 
 zero balance at the moment.\nWe leave no later than 6:45pm. Heading to 
 Kenton for first stop. Reach out if you need the 
 route.\nhttps://shift2bikes.org/calendar/event-18193
LOCATION:Irving park\nIrving park at the covered basketball courts
STATUS:CONFIRMED
DTSTART:20231129T020000Z
DTEND:20231129T030000Z
CREATED:20231126T024121Z
DTSTAMP:20231126T024121Z
SEQUENCE:3
URL:https://shift2bikes.org/calendar/event-18193
END:VEVENT
END:VCALENDAR
