BEGIN:VCALENDAR
VERSION:2.0
PRODID:-//shift2bikes.org//NONSGML shiftcal v2.1//EN
METHOD:PUBLISH
X-WR-CALNAME:Shift Community Calendar
X-WR-CALDESC:Find fun bike events all year round.
X-WR-RELCALID:community@shift2bikes.org
BEGIN:VEVENT
UID:event-18219@shift2bikes.org
SUMMARY:33rd bike lanes last ride and cleaning
CONTACT:BikeLoud
DESCRIPTION:last ride on 33rd bike lane\nMeet at 33rd and Holman at 1pm 
 for a last ride on one of Portland's shortest lived bike lanes. We will 
 have the street sweeper and be out cleaning the bike lane to get it ready 
 for it's removal next week.\nEnds at Rainbow 
 road\nhttps://shift2bikes.org/calendar/event-18219
LOCATION:33rd and holman\nNE 33rd and Holman
STATUS:CONFIRMED
DTSTART:20231216T210000Z
DTEND:20231216T223000Z
CREATED:20231215T041309Z
DTSTAMP:20231215T041309Z
SEQUENCE:4
URL:https://shift2bikes.org/calendar/event-18219
END:VEVENT
END:VCALENDAR
