BEGIN:VCALENDAR
VERSION:2.0
PRODID:-//shift2bikes.org//NONSGML shiftcal v2.1//EN
METHOD:PUBLISH
X-WR-CALNAME:Shift Community Calendar
X-WR-CALDESC:Find fun bike events all year round.
X-WR-RELCALID:community@shift2bikes.org
BEGIN:VEVENT
UID:event-18372@shift2bikes.org
SUMMARY:Monthly Overlook Nhood Ride
CONTACT:Nic Cota
DESCRIPTION:Bike Repair Clinic! 9-11AM\nCome join me and other neighbors 
 on a family-friendly\, conversation pace bike ride around the Overlook 
 neighborhood. As transportation chair\, my goal is to hear from folks 
 about transportation-related issues and ideas for folks walking\, biking\,
  and taking transit for their daily needs. \n\nThis is a monthly ride on 
 the 2nd Sunday of each month. Meet at Stacks Coffeehouse around 9:30a for 
 coffee and conversation\, then leave around 10-10:15a. Ride ends back at 
 Stacks Coffeehouse.\n\nNic Cota\nOverlook Neighborhood Association 
 Transportation Chair\nMeet at 9:30a for coffee\, leave 10:15 for 
 ride\nhttps://shift2bikes.org/calendar/event-18372
LOCATION:Stacks Coffeehouse\n1831 N Killingsworth St Unit A\, Portland\, 
 OR 97217
STATUS:CONFIRMED
DTSTART:20241013T163000Z
DTEND:20241013T180000Z
CREATED:20240111T150542Z
DTSTAMP:20240111T150542Z
SEQUENCE:11
URL:https://shift2bikes.org/calendar/event-18372
END:VEVENT
END:VCALENDAR
