BEGIN:VCALENDAR
VERSION:2.0
PRODID:-//shift2bikes.org//NONSGML shiftcal v2.1//EN
METHOD:PUBLISH
X-WR-CALNAME:Shift Community Calendar
X-WR-CALDESC:Find fun bike events all year round.
X-WR-RELCALID:community@shift2bikes.org
BEGIN:VEVENT
UID:event-18569@shift2bikes.org
SUMMARY:Gaza Sunbirds Solidarity Ride: PDX Demands Ceasefire Now!
CONTACT:Rose City Indivisible
DESCRIPTION:Join us for a community craft event from 12 - 1 pm before the 
 ride!.\nWe are a multi-faith group that supports a Free Palestine. We 
 demand an immediate and permanent ceasefire\, an end to the illegal 
 occupation\, and a stop to our tax dollars funding Israel's genocidal 
 campaign.\n\nThis ride is part of an international day of solidarity with 
 the Gaza Sunbirds. The Sunbirds are a paracycling team whose members have 
 been injured by Israel's genocidal attacks on Palestine. They are 
 distributing critical aid to their communities - please donate to them! 
 https://www.justgiving.com/page/savegaza\n\nPlaylist will feature 
 Palestinian artists. Speaker graciously provided by NakedHearts:PDX.\n\n12
  - 1 pm: Crafts at the covered starting point. Create birds of Gaza\, make
  your own sign\, and assemble zines. All are welcome to join us for crafts
  even if you can't go on the ride.\n\n1 pm: Updates on recent actions in 
 Portland & information about the ride\, then depart for the bike 
 ride\n\nBring your Palestinian flags\, keffiyehs\, & signs for visible 
 solidarity!\n\nRoute is 9.5 miles. Social pace\, no riders left behind. 
 All wheels welcome. Masks strongly encouraged. Organizers will have extras
  on hand.\n\nAlways ask for consent before touching another person or 
 their belongings. If you experience or witness an issue\, please alert a 
 ride leader. Please do not attend if you are banned from other 
 rides.\nMeet at noon\, ride at 1. First hour will have community craft 
 activities under a covered 
 pavilion.\nhttps://shift2bikes.org/calendar/event-18569
LOCATION:Grant Park\nEnter at NE 36th & Brazee\nCovered pavilion
STATUS:CONFIRMED
DTSTART:20240316T190000Z
DTEND:20240316T200000Z
CREATED:20240301T031617Z
DTSTAMP:20240301T031617Z
SEQUENCE:12
URL:https://shift2bikes.org/calendar/event-18569
END:VEVENT
END:VCALENDAR
