BEGIN:VCALENDAR
VERSION:2.0
PRODID:-//shift2bikes.org//NONSGML shiftcal v2.1//EN
METHOD:PUBLISH
X-WR-CALNAME:Shift Community Calendar
X-WR-CALDESC:Find fun bike events all year round.
X-WR-RELCALID:community@shift2bikes.org
BEGIN:VEVENT
UID:event-18572@shift2bikes.org
SUMMARY:Southerly Ladies Series
CONTACT:Maria aka Bicycle Kitty
DESCRIPTION:10:10am roll time\nThis is a chill pace road ride\, friendly 
 to beginners and experienced lady* riders alike (*trans-ladies this means 
 you too!).  Lady-powered bikes only - no dudes\, no e-bikes\, no offense. 
 \n\nWe meet at 10am and roll promptly at 10:10am.  That means if you 
 arrive at 10:11am\, we’ll be gone. You can always try to catch us!\n\nWe 
 meet at the northern trailhead of the trolley trail\, which is located at 
 SE 17th Avenue & SE St Andrews Drive\, very close to the Springwater Trail
  and about a half mile from the Orange Line MAX Johnson Creek/Tacoma stop.
  If it's raining\, check out the bus shelter across the street!\n\nWe'll 
 be riding to Oregon City and to a (proper!) viewpoint to see the falls.  
 If folks are UP for it\, we'll continue up the big hill and stop at a park
  at the top for a break.  This will total 25 miles if we do the hill\, 20 
 miles if we skip it.  Plan on wrapping up by (very approximately) 2:30pm 
 at our start spot.   \nRoute:  
 https://ridewithgps.com/routes/42176352\n\nOur pace is chill and social.  
 We will stay together for maximum fun.  Please stay behind the ride leader
  so I may set the pace.  We'll stop at a couple parks with bathrooms and 
 water spigots for rest stops.  We will not be going to any stores or 
 cafes\, so be sure to bring snacks for yourself.\n\nPlease email me any 
 questions.  This ride is for lady-powered bikes only - no dudes\, no e-
 bikes\, no offense.\n\nRide reports: 
 https://bicyclekitty.blogspot.com/\n10:10 AM roll 
 time\nhttps://shift2bikes.org/calendar/event-18572
LOCATION:Trolley Trail trailhead\nSE 17th & SE St Andrews Drive\n1/2 mile 
 from the Orange line MAX stop - Tacoma/Johnson Creek\, very near the 
 Springwater trail
STATUS:CONFIRMED
DTSTART:20240414T170000Z
DTEND:20240414T180000Z
CREATED:20240304T184032Z
DTSTAMP:20240304T184032Z
SEQUENCE:6
URL:https://shift2bikes.org/calendar/event-18572
END:VEVENT
END:VCALENDAR
