BEGIN:VCALENDAR
VERSION:2.0
PRODID:-//shift2bikes.org//NONSGML shiftcal v2.1//EN
METHOD:PUBLISH
X-WR-CALNAME:Shift Community Calendar
X-WR-CALDESC:Find fun bike events all year round.
X-WR-RELCALID:community@shift2bikes.org
BEGIN:VEVENT
UID:event-18628@shift2bikes.org
SUMMARY:Art Walk (bike ride)
CONTACT:Lynn S
DESCRIPTION:We will be doing a casual ride around to a handful of art 
 galleries that are open for First Friday Art Walk. Biking is the best way 
 to get around to these wonderful galleries as they are spread around inner
  SE/NE. Maybe grab something to eat afterwards. If you got a sound system 
 bring it! I love music on group bike rides. This is a social ride\, no one
  gets left behind.\n\nHere are the galleries that sometimes participate 
 each month. I will update to the ones that confirm they are participating 
 when I get ther email a few days before the event.\nSidestreet Arts \nADX 
 Gallery\nVariable Creatives \nSplendorporium\nPast lives\nSoliloquy \nThe 
 Haven\nClinton Street Coffeehouse\nGagallery\nChandelier Bar\nFord 
 Gallery\nManifestation \nAzoth [after party]\n\nFor more info message me 
 @lynntofu on Instagram.\nMeet at 5:45pm\, ride at 6pm\nEnds at We'll ride 
 around until the art galleries 
 close.\nhttps://shift2bikes.org/calendar/event-18628
LOCATION:Sidestreet Arts\n140 SE 28th Ave\, Portland\, OR 97214\nMeet 
 outside the gallery. There are bike racks across the street.
STATUS:CONFIRMED
DTSTART:20240504T004500Z
DTEND:20240504T014500Z
CREATED:20240317T081545Z
DTSTAMP:20240317T081545Z
SEQUENCE:11
URL:https://shift2bikes.org/calendar/event-18628
END:VEVENT
END:VCALENDAR
