BEGIN:VCALENDAR
VERSION:2.0
PRODID:-//shift2bikes.org//NONSGML shiftcal v2.1//EN
METHOD:PUBLISH
X-WR-CALNAME:Shift Community Calendar
X-WR-CALDESC:Find fun bike events all year round.
X-WR-RELCALID:community@shift2bikes.org
BEGIN:VEVENT
UID:event-18692@shift2bikes.org
SUMMARY:Sellwood-Moreland Nature Ride
CONTACT:Amit Zinman
DESCRIPTION:Enjoy a ride along the Springwater Corridor Trail through Oaks
  Bottom Wetlands and Wildlife Refuge and Neighborhood Greenways of 
 Sellwood-Moreland. It is recommended to bring a bike lock\, since we will 
 lock our bikes at Oaks Bottom and go on a short 
 walk.\n\n----------------\nThis ride is part of a Bike Stuff PDX video 
 series following PBOT recommended routes\, so expect to be on 
 camera.\n\nRoute \nhttps://ridewithgps.com/routes/42784972\nMeet at 3pm\, 
 leave 3:30pm\nhttps://shift2bikes.org/calendar/event-18692
LOCATION:Sellwood-Moreland Nature Ride\nSellwood Riverfront Park\nAt the 
 entrance under the shade of the trees
STATUS:CONFIRMED
DTSTART:20240414T220000Z
DTEND:20240414T230000Z
CREATED:20240404T203547Z
DTSTAMP:20240404T203547Z
SEQUENCE:7
URL:https://shift2bikes.org/calendar/event-18692
END:VEVENT
END:VCALENDAR
