BEGIN:VCALENDAR
VERSION:2.0
PRODID:-//shift2bikes.org//NONSGML shiftcal v2.1//EN
METHOD:PUBLISH
X-WR-CALNAME:Shift Community Calendar
X-WR-CALDESC:Find fun bike events all year round.
X-WR-RELCALID:community@shift2bikes.org
BEGIN:VEVENT
UID:event-18787@shift2bikes.org
SUMMARY:PSU Farmers Market Ride – NW Edition
CONTACT:Strong Towns PDX
DESCRIPTION:Join us for a slow-paced\, all-abilities bike ride from 
 Northwest through The Pearl to the PSU Farmers Market.  The ride will end 
 a couple blocks away from the hangout location at Fariborz Maseeh Hall at 
 SW Broadway and Harrison. There is an optional Strong Towns PDX meetup at 
 Cafe Yumm at 11:30 after this ride. This is an urban ride that will take 
 us on bike lanes and in car traffic lanes. Bring a bike lock to secure 
 your bike at the end of the ride. \n\n• Northwest: Meet at 10:15am in 
 front of Good Coffee. Ride at 10:30am.\n• Pearl: Meet at 10:40am in front 
 of Barista. Ride at 10:45am.\n\nRide map: 
 https://ridewithgps.com/routes/51719650\n\nRain or shine!\n1. Good Coffee 
 (2175 NW Raleigh St)\;   2. Barista (539 NW 13th Ave) at ~10:40.\nEnds at 
 PSU’s Fariborz Maseeh Hall at SW Broadway and 
 Harrison\nhttps://shift2bikes.org/calendar/event-18787
LOCATION:Good Coffee\n2175 NW Raleigh St\nMeet in the plaza
STATUS:CONFIRMED
DTSTART:20240504T171500Z
DTEND:20240504T174500Z
CREATED:20240411T062906Z
DTSTAMP:20240411T062906Z
SEQUENCE:22
URL:https://shift2bikes.org/calendar/event-18787
END:VEVENT
END:VCALENDAR
