BEGIN:VCALENDAR
VERSION:2.0
PRODID:-//shift2bikes.org//NONSGML shiftcal v2.1//EN
METHOD:PUBLISH
X-WR-CALNAME:Shift Community Calendar
X-WR-CALDESC:Find fun bike events all year round.
X-WR-RELCALID:community@shift2bikes.org
BEGIN:VEVENT
UID:event-18839@shift2bikes.org
SUMMARY:BIKE POLO
CONTACT:Portland Bike Polo
DESCRIPTION:Portland Bike Polo plays every Sunday 12pm to dark at Alberta 
 Park. The unholy union of horse polo + street hockey + bikes. They’re 
 singlespeeds\, not fixed gear.\nPortland Bike Polo\, estd. 
 2002\nhttps://shift2bikes.org/calendar/event-18839
LOCATION:Alberta Park bike polo court\nNE Killingsworth and NE 22nd Ave
STATUS:CONFIRMED
DTSTART:20240505T190000Z
DTEND:20240506T010000Z
CREATED:20240215T201124Z
DTSTAMP:20240215T201124Z
SEQUENCE:78
URL:https://shift2bikes.org/calendar/event-18839
END:VEVENT
END:VCALENDAR
