BEGIN:VCALENDAR
VERSION:2.0
PRODID:-//shift2bikes.org//NONSGML shiftcal v2.1//EN
METHOD:PUBLISH
X-WR-CALNAME:Shift Community Calendar
X-WR-CALDESC:Find fun bike events all year round.
X-WR-RELCALID:community@shift2bikes.org
BEGIN:VEVENT
UID:event-20108@shift2bikes.org
SUMMARY:FRESH HOP BEER BOP (RIDE 1 OF 2)
CONTACT:Mariah Lynch
DESCRIPTION:This year we'll do TWO STOPS with a longer ride between the 
 stops. \n\n4:00 PM—Meet at STORMBREAKER BREWING (832 N Beech)\n5:30 
 PM—Leave for 2nd stop \n6:00 PM—Arrive at LOYAL LEGION (710 SE 6th 
 Ave)\n\n--------------------------------------\nWe're blessed to live in 
 the eye of the fresh hop storm. And indeed\, most Oregon breweries 
 leverage Washington's freshly-plucked hop harvest to brew the crispiest\, 
 brightest beers you'll encounter this calendar year.\n\nIf you didn't 
 know\, fresh hops only come available around September\, and it's tough 
 for breweries outside of the north/mountain west to promptly import and 
 brew them. And these beers go fast—typically\, it's tough to find them 
 past October 1st\, when seasonal taps are turned over to 
 festbiers.\n\nFresh hop beers come in many shapes & sizes! Not just IPAs. 
 We might encounter a fresh hop amber\, golden ale\, lager\, hazy\, 
 saison\, and kolsch. But the taps change quick\, so no 
 promises.\nhttps://shift2bikes.org/calendar/event-20108
LOCATION:Stormbreaker Brewing\n832 N Beech\nPark and meet inside! Only 2 
 stops this year (Stormbreaker & Loyal Legion).  Second ride is Friday 
 SEP27.
STATUS:CONFIRMED
DTSTART:20240922T230000Z
DTEND:20240923T000000Z
CREATED:20240831T024817Z
DTSTAMP:20240831T024817Z
SEQUENCE:13
URL:https://shift2bikes.org/calendar/event-20108
END:VEVENT
END:VCALENDAR
