BEGIN:VCALENDAR
VERSION:2.0
PRODID:-//shift2bikes.org//NONSGML shiftcal v2.1//EN
METHOD:PUBLISH
X-WR-CALNAME:Shift Community Calendar
X-WR-CALDESC:Find fun bike events all year round.
X-WR-RELCALID:community@shift2bikes.org
BEGIN:VEVENT
UID:event-20199@shift2bikes.org
SUMMARY:Ride Westside: Hillsboro to Vernonia Fall Colors Ride
CONTACT:Tim
DESCRIPTION:We will leave from the large gravel lot in downtown Hillsboro 
 (just off the MAX line) at 9am with the goal to be back between 4-5pm.  
 Pack a lunch/snacks or plan to purchase on the way\, there will be 
 opportunities for store stops in both Banks and Vernonia.  We will stop 
 for lunch and a little time off the saddle at the lake in Vernonia before 
 heading back down the hill.  This route is mostly uphill going out\, but 
 then a fun roll back down the hill on the return trip.\n\nMost of this 
 ride will be on the Banks-Vernonia trail\, a beautiful rail-trail project 
 that climbs through the foothills of the coast range.  The entire ride 
 from Hillsboro to Vernonia and back will total around 70mi but please feel
  free to join us at one of the stops along the way I'll list below if you 
 don't want to ride the whole thing.\n\nDisclaimer: Though most of the ride
  will be on a trail we will be on rural roads from Hillsboro out to Banks 
 before getting on the trail. If you choose to ride the whole thing please 
 come prepared for this and please have a strong understanding of your 
 rights\, best safety practices\, and norms of riding a bike with car 
 traffic. If you ride the whole thing with us there will be a short segment
  of gravel as well\, please be prepared.\n\nBanks Trailhead: Leaving at 
 10:30 This will be a store stop for the ride.\n\nBuxton Trailhead: Leaving
  at 11\, this will only be a quick water break stop so please be ready to 
 leave before the ride arrives.\nMeet at 8:30 roll at 
 9\nhttps://shift2bikes.org/calendar/event-20199
LOCATION:Gravel Lot at 7th and Washington Hillsboro OR\n645 SE Baseline 
 St\, Hillsboro\, OR 97123
STATUS:CONFIRMED
DTSTART:20241012T153000Z
DTEND:20241012T163000Z
CREATED:20240909T235230Z
DTSTAMP:20240909T235230Z
SEQUENCE:6
URL:https://shift2bikes.org/calendar/event-20199
END:VEVENT
END:VCALENDAR
