BEGIN:VCALENDAR
VERSION:2.0
PRODID:-//shift2bikes.org//NONSGML shiftcal v2.1//EN
METHOD:PUBLISH
X-WR-CALNAME:Shift Community Calendar
X-WR-CALDESC:Find fun bike events all year round.
X-WR-RELCALID:community@shift2bikes.org
BEGIN:VEVENT
UID:event-20206@shift2bikes.org
SUMMARY:International Single Speed Day
CONTACT:Brian McGloin
DESCRIPTION:Ride starts at Coffee Outside\nWe're going to celebrate the 
 "upgrade to single speed" lifestyle with a short ride after Coffee 
 Outside. It's not a race\, expect about 16 miles of some technically 
 singletrack and maybe a little shenaniganery\, probably a store stop or 
 two. \n\nHere's the route: 
 https://ridewithgps.com/routes/48926280\n\nInternational Single Speed Day 
 is a nod to riding bikes as our lord and savior Sheldon Brown intended: 
 with one gear*.\n\nIt's also a nod to Paul Price and his friend Amanda\, 
 who both share a birthday on this date. To celebrate Paul Components sent 
 some stuff to give away\, including one super rad prize.\n\nHere is the 
 coffee outside location: http://www.pdxcoffeeoutside.com or 
 https://www.instagram.com/pdxcoffeeoutside/\n\n*This is obviously 
 bullshit\nMeet at 9-ish for coffee outside\; raffle/giveaway 10-ish\; Roll
  out 10:30-ish\nhttps://shift2bikes.org/calendar/event-20206
LOCATION:TBA\nTBA\nMeet at the PDX Coffee Outside location\, Portland Fire
  Rescue dock 21
STATUS:CONFIRMED
DTSTART:20241102T170000Z
DTEND:20241102T180000Z
CREATED:20240914T151809Z
DTSTAMP:20240914T151809Z
SEQUENCE:5
URL:https://shift2bikes.org/calendar/event-20206
END:VEVENT
END:VCALENDAR
