BEGIN:VCALENDAR
VERSION:2.0
PRODID:-//shift2bikes.org//NONSGML shiftcal v2.1//EN
METHOD:PUBLISH
X-WR-CALNAME:Shift Community Calendar
X-WR-CALDESC:Find fun bike events all year round.
X-WR-RELCALID:community@shift2bikes.org
BEGIN:VEVENT
UID:event-20372@shift2bikes.org
SUMMARY:Dia de Muertos Central Eastside Altar Tour
CONTACT:Milagro and The Street Trust
DESCRIPTION:Join Milagro and The Street Trust for the 4th annual Central 
 Eastside Muertos Celebration Bike Altar Tour. Latina visual artists from 
 IDEAL PDX\, a collective of Latino Portland-based artists have constructed
  Dia de Muertos altars in eight local businesses that the ride will 
 visit.\n\nThe event begins with bike decorating inside Milagro’s zocalo. 
 Water-proof costumes are encouraged!\nThis ride is not a loop\, but it 
 ends half a mile from the start.\n\nRegister for the ride here: 
 https://milagrotheatre.ludus.com/index.php?show_id=200465269\nSign up to 
 be a volunteer ride escort here: 
 https://secure.everyaction.com/PFb5tX3ot0eJCyrrMFaLZQ2\nBike decorating 
 starts at noon\, ride departs at 1pm\nEnds at Cargo - 81 SE Yamhill 
 St\nhttps://shift2bikes.org/calendar/event-20372
LOCATION:Milagro\n425 SE 6th Ave\, Portland\, OR 97214\nBring your bike 
 inside for bike decorating
STATUS:CONFIRMED
DTSTART:20241102T193000Z
DTEND:20241102T223000Z
CREATED:20241029T043059Z
DTSTAMP:20241029T043059Z
SEQUENCE:4
URL:https://shift2bikes.org/calendar/event-20372
END:VEVENT
END:VCALENDAR
