BEGIN:VCALENDAR
VERSION:2.0
PRODID:-//shift2bikes.org//NONSGML shiftcal v2.1//EN
METHOD:PUBLISH
X-WR-CALNAME:Shift Community Calendar
X-WR-CALDESC:Find fun bike events all year round.
X-WR-RELCALID:community@shift2bikes.org
BEGIN:VEVENT
UID:event-20378@shift2bikes.org
SUMMARY:Nomad Cycles Monthly E-bike Ride Westside Edition
CONTACT:Nomad Cycles PDX
DESCRIPTION:Come enjoy the artisan crafts of our meetup hosts\, the 
 Portland Saturday Market\, and then we ride as a group through downtown 
 and up up up the west hills into Washington Park and back. Come with fully
  charged batteries for the elevation gain that our wings of electric 
 energy will help us ascend. We are riding a loop.\nMeeting at the covered 
 and heated seating area by the Sat. Markets stage\, (across from the Bill 
 Naito Legacy Fountain\, on the river side at the intersection of SW Ankeny
  St. and SW Naito Pkwy)\, we suggest arriving at 2 with time to see the 
 art\, then meeting up at 3 and ride time is 
 3:30.\nhttps://shift2bikes.org/calendar/event-20378
LOCATION:Portland Saturday Market\n2 SW Naito Pkwy\, Portland\, OR 
 97204\nSeating area in front of the stage\, across from the fountain
STATUS:CONFIRMED
DTSTART:20241103T220000Z
DTEND:20241103T230000Z
CREATED:20241031T033123Z
DTSTAMP:20241031T033123Z
SEQUENCE:3
URL:https://shift2bikes.org/calendar/event-20378
END:VEVENT
END:VCALENDAR
