BEGIN:VCALENDAR
VERSION:2.0
PRODID:-//shift2bikes.org//NONSGML shiftcal v2.1//EN
METHOD:PUBLISH
X-WR-CALNAME:Shift Community Calendar
X-WR-CALDESC:Find fun bike events all year round.
X-WR-RELCALID:community@shift2bikes.org
BEGIN:VEVENT
UID:event-20379@shift2bikes.org
SUMMARY:Bike from inner NE to east side vigils
CONTACT:Gil and Ted
DESCRIPTION:Group ride out to 105th and Marx for the 11:30 am vigil.  
 \n\n(Bring good rain gear and a thermos of hot beverage) \n\nHosted by Ted
  and Gil.\nGather at 10:00\, roll at 
 10:30\nhttps://shift2bikes.org/calendar/event-20379
LOCATION:Wilshire Park central pavilion\n3500 ne Skidmore St\nPavilion in 
 center of park.
STATUS:CONFIRMED
DTSTART:20241102T170000Z
DTEND:20241102T183000Z
CREATED:20241031T113024Z
DTSTAMP:20241031T113024Z
SEQUENCE:4
URL:https://shift2bikes.org/calendar/event-20379
END:VEVENT
END:VCALENDAR
