BEGIN:VCALENDAR
VERSION:2.0
PRODID:-//shift2bikes.org//NONSGML shiftcal v2.1//EN
METHOD:PUBLISH
X-WR-CALNAME:Shift Community Calendar
X-WR-CALDESC:Find fun bike events all year round.
X-WR-RELCALID:community@shift2bikes.org
BEGIN:VEVENT
UID:event-20882@shift2bikes.org
SUMMARY:Ride Safe Thursdays — queer-led safer space\, all wheels welcome
CONTACT:Ride Safe PDX
DESCRIPTION::)\nRide with friends in a welcoming environment! Every 
 Thursday ride is a loop. We are always no-drop and will attempt to help 
 riders with mechanical issues.  \n\n***NOTE ON WINTER RIDES***\nRides 
 during the winter months will be subject to weather conditions and ride 
 leader availability. Please check back here the day of the ride for up-to-
 date info. We'll try to update this listing by noon the day of the ride if
  it isn't happening\, but cancelations may occur closer to ride 
 time.\n\nThe first Thursday of each month will be masks-required.  
 \n\nThis ride aims to be a safer space. We take the code of conduct 
 seriously and do not allow harassment\, violence\, racism\, bigotry\, 
 threats\, or other actions that go against the code of conduct. Always ask
  for consent before touching another person or their belongings.  If you 
 experience or witness an issue\, please alert a ride leader. Banned riders
  are banned here.  \n\nWays to alert Shift if you see a problem on any 
 group ride: \nEmail: conduct@shift2bikes.org \nGoogle Form: 
 https://forms.gle/sYN8zZqMkPt2QCih7\nMeet starting at 6:30\, ride at 
 7\nhttps://shift2bikes.org/calendar/event-20882
LOCATION:Irving Park\nNE 7th Ave @ NE Fremont St.\nIf raining: Under the 
 basketball courts canopy. If dry: Top of the hill by the bathrooms
STATUS:CONFIRMED
DTSTART:20250307T023000Z
DTEND:20250307T033000Z
CREATED:20241204T151244Z
DTSTAMP:20241204T151244Z
SEQUENCE:18
URL:https://shift2bikes.org/calendar/event-20882
END:VEVENT
END:VCALENDAR
