BEGIN:VCALENDAR
VERSION:2.0
PRODID:-//shift2bikes.org//NONSGML shiftcal v2.1//EN
METHOD:PUBLISH
X-WR-CALNAME:Shift Community Calendar
X-WR-CALDESC:Find fun bike events all year round.
X-WR-RELCALID:community@shift2bikes.org
BEGIN:VEVENT
UID:event-21234@shift2bikes.org
SUMMARY:Saturdays in May !! N and NE Portland District 2 Ride
CONTACT:Eva - BikeLoud PDX
DESCRIPTION:It's Bike Month!!\nBIKELOUD PDX Presents:\nRide Number 2 in a 
 series of rides for the month of May!\n\nJoin us for a Saturday morning 
 cruise on greenways\, alleyways\, boulevards\, and bike lanes through 
 North Portland. We'll start at Peninsula Park and loop through several 
 neighborhoods. Learn about some secret corners\, meet new friends\, and 
 enjoy the fresh air. \n\nSaturday is the St John's Parade\, so we'll ride 
 to St Johns -- you can get off the ride in St John's if you want to watch 
 the parade (parade starts at noon) -- or continue on to loop back. We'll 
 end near Woodlawn Park where we can sit and chat\, so bring a lock and 
 your wallet if you want to stay. Around 12 miles total\, ~6 miles if 
 you're getting off for the parade. Ride will be at a relaxed pace. 
 \n\nBonus: We'll be inviting your City Council District 
 representatives.\n\nRides in every district\, every Saturday in May.\nD1: 
 May 3\, D2: May 10\, D3: May 17\, D4: May 24\nOn May 31st\, we're taking 
 Sandy Boulevard!\nTell your friends and family!\nMeet at 10 am\, ride at 
 10:20\nEnds at Not too far from the 
 start!\nhttps://shift2bikes.org/calendar/event-21234
LOCATION:Peninsula Park\n700 N Rosa Parks Way\nMeet at the gazebo
STATUS:CONFIRMED
DTSTART:20250510T170000Z
DTEND:20250510T180000Z
CREATED:20250425T070502Z
DTSTAMP:20250425T070502Z
SEQUENCE:5
URL:https://shift2bikes.org/calendar/event-21234
END:VEVENT
END:VCALENDAR
