BEGIN:VCALENDAR
VERSION:2.0
PRODID:-//shift2bikes.org//NONSGML shiftcal v2.1//EN
METHOD:PUBLISH
X-WR-CALNAME:Shift Community Calendar
X-WR-CALDESC:Find fun bike events all year round.
X-WR-RELCALID:community@shift2bikes.org
BEGIN:VEVENT
UID:event-22677@shift2bikes.org
SUMMARY:The Chocolate Ride
CONTACT:Rachel
DESCRIPTION:Hot or cold\, dark or light\, I’ll try not to judge if you 
 like it white. If cocoa is what you want for lunch\, then ride with me and
  have a bunch!\n\nA ride for people who like chocolate. And bikes. Three 
 stops will include a place for sipping chocolate\, eating chocolate\, 
 tasting chocolate\, maybe an ordained priest if you want to marry 
 chocolate?\n\nEND SPOT is the grand opening of a new chocolate store with 
 promises of games\, prizes\, and raffles.\n\nRoute will be a little over 
 15 miles. Feel free to reach out if you need to meet at midway stop.\nRide
  at noon\nEnds at Ends in NE near Woodlawn 
 neighborhood\nhttps://shift2bikes.org/calendar/event-22677
LOCATION:Irving park\n707 NE Fremont St\, Portland\, OR 97212\, United 
 States\nBy dog park
STATUS:CONFIRMED
DTSTART:20250913T183000Z
DTEND:20250913T220000Z
CREATED:20250910T122959Z
DTSTAMP:20250910T122959Z
SEQUENCE:5
URL:https://shift2bikes.org/calendar/event-22677
END:VEVENT
END:VCALENDAR
