BEGIN:VCALENDAR
VERSION:2.0
PRODID:-//shift2bikes.org//NONSGML shiftcal v2.1//EN
METHOD:PUBLISH
X-WR-CALNAME:Shift Community Calendar
X-WR-CALDESC:Find fun bike events all year round.
X-WR-RELCALID:community@shift2bikes.org
BEGIN:VEVENT
UID:event-22678@shift2bikes.org
SUMMARY:El Grito Ride Cumbia Edition
CONTACT:Cycle Homies
DESCRIPTION:🚨🚨El Grito Ride Alert🚨🚨 \n\nJoin us Saturday September 
 13th for our annual Grito Ride “Cumbia Edition”\n\n🚨 Post ride featuring 
 dance lessons from Anita @linesdanceacademy and DJ Set featuring 
 @espina_letal \n\n🚨Meetup 615 @ Salmon Street Springs\nRideout at 
 7pm\n\n🚨🚨 FIRST TEN PEOPLE WITHOUT BIKES TO DM US WILL GET A CODE TO 
 ACCESS BIKETOWN BIKES🚨\n\n****THIS RIDE IS NOT A LOOP****\nRide will be 
 5-6 miles long and will end approximately half a mile from start 
 location.\n\nFlyer 🎨: @laylowcreative \n\nNo hate or disrespect will be 
 tolerated. You will be asked to leave if you bring bad vibes.\n\nRemember 
 to pack in and pack out your belongings\, do not leave garbage behind. 
 \n\n****21+ Ride/Event****\n\nReach out for any further questions \n\nHope
  to see you all there 🤘🏽\nMeet 615 Roll 7pm\nEnds at Ride will end 1/2 
 miles from start location\nhttps://shift2bikes.org/calendar/event-22678
LOCATION:Salmon street springs\n1000 SW Naito Pkwy\, Portland\, OR 97204
STATUS:CONFIRMED
DTSTART:20250914T011500Z
DTEND:20250914T021500Z
CREATED:20250910T125627Z
DTSTAMP:20250910T125627Z
SEQUENCE:4
URL:https://shift2bikes.org/calendar/event-22678
END:VEVENT
END:VCALENDAR
