BEGIN:VCALENDAR
VERSION:2.0
PRODID:-//shift2bikes.org//NONSGML shiftcal v2.1//EN
METHOD:PUBLISH
X-WR-CALNAME:Shift Community Calendar
X-WR-CALDESC:Find fun bike events all year round.
X-WR-RELCALID:community@shift2bikes.org
BEGIN:VEVENT
UID:event-22849@shift2bikes.org
SUMMARY:Bike Happy Hour
CONTACT:Jonathan Maus / BikePortland
DESCRIPTION:🚨 Special Guests: War On Cars Podcast 🚨\n*Winter/spring 
 location: Migration Brewing on N Williams Ave.*\n\nJoin other bike-minded 
 folks for drinks\, food and community every Wednesday from 3-6 (or so). 
 \n\nBike Happy Hour is a place where everyone is welcomed and embraced by 
 our community. Just show up and hang out. That's it! Follow @bikeportland 
 on socials for updates and info about special themed nights or special 
 guest appearances.\n\nAll ages are welcome. We often have little kiddos 
 running around. We've got coloring books and crayons\, and feel free to 
 bring your own activities: puzzles\, crafts\, games\, or whatever. \n\n$5 
 Migration Pints! - Great Food Menu from Papas Frita. \n\n3:00 pm - 
 Quiet(er) hours. If you don't like crowds or want to talk to me (Jonathan)
  one-on-one\, this is a great time to show up.\n4:00 pm - Free Fries! 
 (Please help BikePortland sustain this cherished tradition by sponsoring 
 the fries via this link. https://bikeportland.org/contribute)\n5:30 pm - 
 Open Mic. Special guest speeches and announcements. Everyone is welcome to
  share. No invitation needed.\n6:00 pm - Folks start to leave\, but you're
  welcome to stay later.\nhttps://shift2bikes.org/calendar/event-22849
LOCATION:Migration Brewing -  N Williams Ave\n3947 N Williams Ave\, 
 Portland\, OR 97227\nBack Patio
STATUS:CONFIRMED
DTSTART:20251112T230000Z
DTEND:20251113T020000Z
CREATED:20250507T232600Z
DTSTAMP:20250507T232600Z
SEQUENCE:18
URL:https://shift2bikes.org/calendar/event-22849
END:VEVENT
END:VCALENDAR
