BEGIN:VCALENDAR
VERSION:2.0
PRODID:-//shift2bikes.org//NONSGML shiftcal v2.1//EN
METHOD:PUBLISH
X-WR-CALNAME:Shift Community Calendar
X-WR-CALDESC:Find fun bike events all year round.
X-WR-RELCALID:community@shift2bikes.org
BEGIN:VEVENT
UID:event-23212@shift2bikes.org
SUMMARY:hill killerz lunch hillz
CONTACT:Maria the Bicycle Kitty
DESCRIPTION:Attempt FIVE repeats on SE 52nd Avenue from Harney to Flavel 
 Drive from 12:30pm - 1pm every Tuesday of Pedalpalooza.\n\nThis is a 
 unique ride in that we don't meet to start\, just show up and ride up the 
 hill over and over\, each at our own pace.\n\nEarn a shiny hill killerz 
 sticker!\n\nYou agree to follow these rules just by showing up:\n1) No 
 complaining 2) Do whatever you want 3) Do not sue me\nJust show up and 
 ride!\nEnds at SE 52nd Avenue & SE Flavel 
 Drive\nhttps://shift2bikes.org/calendar/event-23212
LOCATION:the hill\nSE 52nd Avenue & SE Harney Avenue\nWe meet "in motion" 
 anywhere on the hill
STATUS:CONFIRMED
DTSTART:20260602T193000Z
DTEND:20260602T200000Z
CREATED:20241218T044207Z
DTSTAMP:20241218T044207Z
SEQUENCE:9
URL:https://shift2bikes.org/calendar/event-23212
END:VEVENT
END:VCALENDAR
