BEGIN:VCALENDAR
VERSION:2.0
PRODID:-//shift2bikes.org//NONSGML shiftcal v2.1//EN
METHOD:PUBLISH
X-WR-CALNAME:Shift Community Calendar
X-WR-CALDESC:Find fun bike events all year round.
X-WR-RELCALID:community@shift2bikes.org
BEGIN:VEVENT
UID:event-23224@shift2bikes.org
SUMMARY:Bicycle Kitty Alley Alley Catty
CONTACT:Maria the Bicycle Kitty
DESCRIPTION:4pm GO TIME\nCome ride or race bikes in a fun little scavenger
  hunt in the Brentwood-Darlington neighborhood (and a bit beyond).  We'll 
 meet at the picnic tables on the west side of Brentwood Park.  
 Riders/racers will be given a manifest and a paper map (no digital 
 wayfinding allowed!).  \n\nThis year's alley alley catty will feature 
 alleys!  These alleys are "unimproved" (not paved) so consider your bike 
 choice wisely.\n\nFind as few or as many locations as you'd like\, then 
 head to the Foster Food Carts for a finish line prize party.\n\nBring a 
 pen.\n\nRules (which you agree to follow\, just by showing up!):\n* no 
 complaining\n* do whatever you want\n* do not sue me or the venue where we
  finish\nReady set go at 4pm sharp!\nEnds at Foster Food 
 Carts\nhttps://shift2bikes.org/calendar/event-23224
LOCATION:Brentwood Park\n6550 SE 60th Ave\npicnic tables on west side
STATUS:CONFIRMED
DTSTART:20260606T223000Z
DTEND:20260606T233000Z
CREATED:20260121T021050Z
DTSTAMP:20260121T021050Z
SEQUENCE:3
URL:https://shift2bikes.org/calendar/event-23224
END:VEVENT
END:VCALENDAR
