BEGIN:VCALENDAR
VERSION:2.0
PRODID:-//shift2bikes.org//NONSGML shiftcal v2.1//EN
METHOD:PUBLISH
X-WR-CALNAME:Shift Community Calendar
X-WR-CALDESC:Find fun bike events all year round.
X-WR-RELCALID:community@shift2bikes.org
BEGIN:VEVENT
UID:event-23234@shift2bikes.org
SUMMARY:Foster night ride
CONTACT:Radrich
DESCRIPTION:Collin leads Hyper-joints\nWe meet up every other Tuesday. We 
 ride in the Southeast Portland we have food carts and a beer tent at the 
 start of the ride. And we go somewhere and generally have a fire. As a 
 great close-knit ride open to you . i promise to make you dance like idot 
 and celebrate your night.So be kind to all travlers \, bring your 
 friends\, and optimism.\nMeet 7pm\, ride out 
 8pm\nhttps://shift2bikes.org/calendar/event-23234
LOCATION:foster food carts\n5205 se foster rd.\nIn between the freemasons 
 and the strip club in the beer tent
STATUS:CONFIRMED
DTSTART:20260218T030000Z
DTEND:20260218T040000Z
CREATED:20260128T113025Z
DTSTAMP:20260128T113025Z
SEQUENCE:15
URL:https://shift2bikes.org/calendar/event-23234
END:VEVENT
END:VCALENDAR
