BEGIN:VCALENDAR
VERSION:2.0
PRODID:-//shift2bikes.org//NONSGML shiftcal v2.1//EN
METHOD:PUBLISH
X-WR-CALNAME:Shift Community Calendar
X-WR-CALDESC:Find fun bike events all year round.
X-WR-RELCALID:community@shift2bikes.org
BEGIN:VEVENT
UID:event-23318@shift2bikes.org
SUMMARY:Tigard to Tualatin
CONTACT:Ride_WestSide
DESCRIPTION:Ride with us from Tigard's Universal Plaza to the Tualatin 
 River Greenway Trail. We'll go under I-5 to Brown's Ferry park with a 
 store stop on the way back. Approximately 14 miles round trip at a casual 
 pace. We'll stop and look at stuff along the way.\nMeet at 10am roll at 
 10:30am\nhttps://shift2bikes.org/calendar/event-23318
LOCATION:Universal Plaza\n9100 SW Burnham Street Tigard\, OR
STATUS:CONFIRMED
DTSTART:20260301T180000Z
DTEND:20260301T190000Z
CREATED:20260226T132240Z
DTSTAMP:20260226T132240Z
SEQUENCE:3
URL:https://shift2bikes.org/calendar/event-23318
END:VEVENT
END:VCALENDAR
