BEGIN:VCALENDAR
VERSION:2.0
PRODID:-//shift2bikes.org//NONSGML shiftcal v2.1//EN
METHOD:PUBLISH
X-WR-CALNAME:Shift Community Calendar
X-WR-CALDESC:Find fun bike events all year round.
X-WR-RELCALID:community@shift2bikes.org
BEGIN:VEVENT
UID:event-23359@shift2bikes.org
SUMMARY:Trek to Two Bridge Loop
CONTACT:Maria
DESCRIPTION:10:30am roll time\nMeet at the new Trek location in Slabtown 
 (1560 NW 21st Ave near Raleigh) for coffee and donuts at 10am. \n\nRoll 
 out at 10:30am on a medium-paced (12-14mph) group road ride\, crossing the
  two bridges over the Columbia River and enjoying the bike paths on each 
 side.  We'll finish where we started for a total of about 40 miles.  
 \n\nWe will try to stay together and have several quick regroup stops to 
 help make that happen.  Please let me lead from the front\, stay behind or
  beside me so I may set the pace.  If your pace is much slower than 
 12mph\, we'll wait for a bit but may be gone from the regroup stop when 
 you arrive.\n\nFor maximum success\, download the route (it's free - link 
 below).  Be sure to turn on the "POI" (points of interest) layer so you 
 can see where the regroups and bathroom stop are.\n\nRoute: 
 https://ridewithgps.com/routes/46462217\n\nRules (which you agree to 
 follow just by showing up!):\n1) no complaining\n2) stay behind the ride 
 leader\n3) do not sue me or the bike shop feeding us donuts!\n\nThings to 
 bring:\n1) No lock is needed\n2) Your flat repair kit\, including a spare 
 tube (even if you run tubeless)\n3) Your snacks and drinks (we will not be
  stopping at any stores or cafes)\n\nThanks to Trek Bicycle Portland 
 Slabtown for hosting us!\nRoll at 
 10:30am\nhttps://shift2bikes.org/calendar/event-23359
LOCATION:Trek Slabtown\n1560 NW 21st Ave\ncourtyard next to store
STATUS:CONFIRMED
DTSTART:20260502T170000Z
DTEND:20260502T180000Z
CREATED:20260312T012258Z
DTSTAMP:20260312T012258Z
SEQUENCE:3
URL:https://shift2bikes.org/calendar/event-23359
END:VEVENT
END:VCALENDAR
