BEGIN:VCALENDAR
VERSION:2.0
PRODID:-//shift2bikes.org//NONSGML shiftcal v2.1//EN
METHOD:PUBLISH
X-WR-CALNAME:Shift Community Calendar
X-WR-CALDESC:Find fun bike events all year round.
X-WR-RELCALID:community@shift2bikes.org
BEGIN:VEVENT
UID:event-23413@shift2bikes.org
SUMMARY:Kidical Mass PDX - Frozen Yogurt Ride
CONTACT:Kidical Mass PDX
DESCRIPTION:18 years of Kidical Mass bringing bike joy to 
 Portland!\nCelebrate the 18th anniversary of Kidical Mass PDX with a bike 
 ride downtown to get frozen yogurt! \n \nThis family-friendly\, kid-paced 
 bike ride first happened on June 20th\, 2008 on a route downtown similar 
 to this one. It was the second Kidical Mass ride in the world\, after the 
 first one in Eugene the month before. Now there are hundreds of Kidical 
 Mass groups around the world!\n \nThis year we’ll ride from The Fields 
 Park in NW Portland to Director Park downtown\, where we can get self-
 serve frozen yogurt with topping at Tartberry\, a local shop. The ride is 
 free\, but bring money for yogurt. \n \nMeet at 2:00pm\, ride at 2:15pm. 
 The ride is a loop\, 3 miles total\, with a 30 minute break at the park 
 and yogurt shop after 1.5 miles\, so it is suitable for most young bike 
 riders who can pedal their own bike without training wheels. We should be 
 back to the start by 4:00 pm. \n \nWe ride at a moderate pace for little 
 pedalers and parents on cargo bikes. Kids should wear a helmet\, be able 
 to balance and pedal in a straight line\, start and stop. Cargo bikes\, 
 tandems\, trailers and tag-a-longs are great for kids who haven’t learned 
 to pedal. Adult corkers are welcome to join as a traffic safety 
 superheroes. \n \nWe’ll ride together as a group\, rain or shine\, because
  kids are traffic too!\n \nRoute map: 
 https://ridewithgps.com/routes/46407664\nMeet at 2pm\, ride at 
 2:15pm\nhttps://shift2bikes.org/calendar/event-23413
LOCATION:The Fields Park\n1099 NW Overton St\, Portland\, OR 
 97209\nPlayground in the park at NW 11th and NW Overton
STATUS:CONFIRMED
DTSTART:20260620T210000Z
DTEND:20260620T230000Z
CREATED:20260325T051123Z
DTSTAMP:20260325T051123Z
SEQUENCE:4
URL:https://shift2bikes.org/calendar/event-23413
END:VEVENT
END:VCALENDAR
