BEGIN:VCALENDAR
VERSION:2.0
PRODID:-//shift2bikes.org//NONSGML shiftcal v2.1//EN
METHOD:PUBLISH
X-WR-CALNAME:Shift Community Calendar
X-WR-CALDESC:Find fun bike events all year round.
X-WR-RELCALID:community@shift2bikes.org
BEGIN:VEVENT
UID:event-23437@shift2bikes.org
SUMMARY:The 2026 Portland Tweed Ride
CONTACT:Jason Fifield
DESCRIPTION:Join us for Portland's Annual Tweed Ride! Throw on your tweed 
 and / or vintage outfits\, and enjoy a fun\, social ride that showcases 
 Portland's urban and natural settings! The ride will begin at Revolution 
 Hall - meet at the west side of the building near the patio area. We will 
 ride to an undisclosed natural setting for a picnic stop. We will then 
 ride back to Revolution Hall where the ride will end. \n\nDon't have any 
 tweed? No problem! We have a collection of items as a "tweed library" that
  will be available for riders to use. \n\nSpecial prizes include:\nTweed 
 gear donated by Tweedmaker\nOne lucky Tweed Rider will win a pair of shoes
  or boots by Memery Shoes!\n\nSee https://www.instagram.com/tweedpdx/ for 
 more information and updates.\nMeet at 12:00pm\, ride at 1:00pm\nEnds at 
 Same\nhttps://shift2bikes.org/calendar/event-23437
LOCATION:Revolution Hall\n1300 SE Stark Street\nMeet on the west side of 
 the building near the patio area
STATUS:CONFIRMED
DTSTART:20260503T190000Z
DTEND:20260503T230000Z
CREATED:20260402T121720Z
DTSTAMP:20260402T121720Z
SEQUENCE:4
URL:https://shift2bikes.org/calendar/event-23437
END:VEVENT
END:VCALENDAR
