BEGIN:VCALENDAR
VERSION:2.0
PRODID:-//shift2bikes.org//NONSGML shiftcal v2.1//EN
METHOD:PUBLISH
X-WR-CALNAME:Shift Community Calendar
X-WR-CALDESC:Find fun bike events all year round.
X-WR-RELCALID:community@shift2bikes.org
BEGIN:VEVENT
UID:event-23438@shift2bikes.org
SUMMARY:Cedar Mill/Bethany Score Velogaine
CONTACT:Mt Hood Orienteering (MTHD)
DESCRIPTION:You use a map and compass to find as many control sites as 
 possible within 4 hours. Each site has a different point value (shown on 
 your map). You get one hour before your start time to plan on your best 
 route and then up to 4 hours to do your course. Bring a watch and a cell 
 phone--the watch helps you avoid finishing late (you lose 30 points per 
 minute that you finish late)\, and the cell phone running the MapRun app 
 gives you credit for all the sites found\, tracks your adventuresome 
 routes\, and calculates your final score. \n\nFees are as follows:\n- 
 Adults (21+ years):  $26 until April 26\,  $31 until May 1. \n- Juniors 
 (8-20 years):  $23 until April 26\, $28 until May 1.  \n- Children (0-7 
 years with adult)  Free \n\nDiscounts: $6 for Mt Hood Orienteering 
 members. $3 for members of other orienteering clubs.\n\nNote: There are NO
  EVENT DAY REGISTRATIONS.\n\nFor more information\, to register for this 
 event\, and/or to become a member of Mt Hood Orienteering\, go to 
 www.mthoodo.org.\nYou may start during an open time slot between 10 AM and
  12 Noon.\nEnds at Same location as start at Jackie Husen 
 Park.\nhttps://shift2bikes.org/calendar/event-23438
LOCATION:Jackie Husen Park in Portland\, OR  [45.529\, -122.789] (event 
 center with starts and finishes)\n10385 NW Cornell Rd\, Portland\, 
 OR\nPark in the street or at the nearby Cedar Mill Elementary School 
 (there is a path from the school to the street on which the Jackie Husen 
 Park is located).
STATUS:CONFIRMED
DTSTART:20260503T170000Z
DTEND:20260503T210000Z
CREATED:20260402T130050Z
DTSTAMP:20260402T130050Z
SEQUENCE:3
URL:https://shift2bikes.org/calendar/event-23438
END:VEVENT
END:VCALENDAR
