BEGIN:VCALENDAR
VERSION:2.0
PRODID:-//shift2bikes.org//NONSGML shiftcal v2.1//EN
METHOD:PUBLISH
X-WR-CALNAME:Shift Community Calendar
X-WR-CALDESC:Find fun bike events all year round.
X-WR-RELCALID:community@shift2bikes.org
BEGIN:VEVENT
UID:event-23444@shift2bikes.org
SUMMARY:Westside Wednesday Ride #129
CONTACT:CycleCatsPDX
DESCRIPTION:Come ride bikes.  We are faster and more adventurous than most
  rides but still have a no drop mentality.  Come hang out and ride your 
 bikes and make some friends.  Bike life!  Follow on IG 
 @westsidewednesdayride and for longer weekend rides follow 
 @cyclecatspdx\nMeet up at 19:30 and rolling at 20:00 sharp!\nEnds at Back 
 at B.T.C.\nhttps://shift2bikes.org/calendar/event-23444
LOCATION:Beaverton Transit Center\n45.49064 N\, 122.80240 W\nAcross the 
 street from the bike shed.
STATUS:CONFIRMED
DTSTART:20260430T030000Z
DTEND:20260430T050000Z
CREATED:20260403T005350Z
DTSTAMP:20260403T005350Z
SEQUENCE:3
URL:https://shift2bikes.org/calendar/event-23444
END:VEVENT
END:VCALENDAR
