BEGIN:VCALENDAR
VERSION:2.0
PRODID:-//shift2bikes.org//NONSGML shiftcal v2.1//EN
METHOD:PUBLISH
X-WR-CALNAME:Shift Community Calendar
X-WR-CALDESC:Find fun bike events all year round.
X-WR-RELCALID:community@shift2bikes.org
BEGIN:VEVENT
UID:event-23451@shift2bikes.org
SUMMARY:Thorns Bike Bus (College Night!)
CONTACT:Eva\, Rooster\, and Joseph
DESCRIPTION:Thorns Bike Bus\nYour Portland Thorns play host to the Chicago
  Stars for College Night!  We'll gather at Peninsula Park at 4:30 and 
 depart at 4:45\, stop at The Athletic Community (3901 N Williams) and pop 
 in for a drink at Bike Happy Hour next door at Migration\, then depart for
  Providence Park at 6:00. (Details subject to change\, please check back 
 after Sunday the 26th for final schedule).\nMeet at 4:30\, ride at 4:45\, 
 depart The Athletic at 6:00\nEnds at Providence 
 Park\nhttps://shift2bikes.org/calendar/event-23451
LOCATION:Peninsula Park\n6001 N Kerby Ave\nSoutheast corner between 
 Kerby\, Ainsworth\, and the rose garden
STATUS:CONFIRMED
DTSTART:20260429T233000Z
DTEND:20260430T013000Z
CREATED:20260404T235847Z
DTSTAMP:20260404T235847Z
SEQUENCE:3
URL:https://shift2bikes.org/calendar/event-23451
END:VEVENT
END:VCALENDAR
