BEGIN:VCALENDAR
VERSION:2.0
PRODID:-//shift2bikes.org//NONSGML shiftcal v2.1//EN
METHOD:PUBLISH
X-WR-CALNAME:Shift Community Calendar
X-WR-CALDESC:Find fun bike events all year round.
X-WR-RELCALID:community@shift2bikes.org
BEGIN:VEVENT
UID:event-23462@shift2bikes.org
SUMMARY:Bicycle Film Festival Portland
CONTACT:Bicycle Film Festival
DESCRIPTION:Bicycle Film Festival is returning to Portland on April 30 at 
 Cinema 21! BFF Portland presents international short film programs that 
 appeal to film connoisseurs\, avid cyclists and everyone in between. 
 Curated documentaries\, narratives\, animations\, award-winning 
 directors\, and emerging talents all share equal billing.\n\n6:30 
 PM\nPROGRAM 1 Cinematic Shorts\nA collection of short films that explore 
 the bicycle as a symbolic tool of freedom. Experience worldwide cycling 
 culture through China's bustling markets\, youth on the streets of 
 Lisbon\, inclusion in Portland\, bikepacking Kyrgyzstan's remote 
 mountains\, South African community\, and the resilience of the Gaza 
 Sunbirds. \n\n8:30 PM\nPROGRAM 2 Urban Bike Shorts\nA beloved BFF 
 tradition made by cyclists for cyclists. These films celebrate the spirit 
 of street\, youth\, commuter\, fixed gear\, BMX and messenger cultures 
 around the world.\n\nABOUT BFF\nIn 2001\, Brendt Barbur founded Bicycle 
 Film Festival after being hit by a bus while cycling in New York City. 
 What began as a personal journey became a global celebration of cycling 
 through stories featuring leading voices in art\, film\, music and 
 advocacy. 26 years later\, BFF has reached over one million people in over
  100 cities from Paris\, Tokyo\, Mexico City to Cape Town\, Istanbul\, and
  beyond. Hosted in iconic venues like the Sydney Opera House and the 
 Barbican in London\, BFF shines a light on cycling culture. We are 
 enthusiastic to bring BFF back to Portland!\n\nPurchase tickets: 
 https://btt.boldtypetickets.com/events/183692857/bicycle-film-festival-
 portland\nFestival Pass $30\nIndividual Program Tickets $22\nProgram 1: 
 630 PM & Program 2: 830 PM\nhttps://shift2bikes.org/calendar/event-23462
LOCATION:Cinema 21\n616 NW 21st Ave\, Portland\, OR 97209
STATUS:CONFIRMED
DTSTART:20260501T010000Z
DTEND:20260501T020000Z
CREATED:20260407T024405Z
DTSTAMP:20260407T024405Z
SEQUENCE:6
URL:https://shift2bikes.org/calendar/event-23462
END:VEVENT
END:VCALENDAR
